BEGIN:VCALENDAR
VERSION:2.0
PRODID:-//Association sportive du Golf de l&#039;Ailette - ECPv6.15.20//NONSGML v1.0//EN
CALSCALE:GREGORIAN
METHOD:PUBLISH
X-WR-CALNAME:Association sportive du Golf de l&#039;Ailette
X-ORIGINAL-URL:https://www.golfdelailette.fr
X-WR-CALDESC:Évènements pour Association sportive du Golf de l&#039;Ailette
REFRESH-INTERVAL;VALUE=DURATION:PT1H
X-Robots-Tag:noindex
X-PUBLISHED-TTL:PT1H
BEGIN:VTIMEZONE
TZID:Europe/Paris
BEGIN:DAYLIGHT
TZOFFSETFROM:+0100
TZOFFSETTO:+0200
TZNAME:CEST
DTSTART:20250330T010000
END:DAYLIGHT
BEGIN:STANDARD
TZOFFSETFROM:+0200
TZOFFSETTO:+0100
TZNAME:CET
DTSTART:20251026T010000
END:STANDARD
BEGIN:DAYLIGHT
TZOFFSETFROM:+0100
TZOFFSETTO:+0200
TZNAME:CEST
DTSTART:20260329T010000
END:DAYLIGHT
BEGIN:STANDARD
TZOFFSETFROM:+0200
TZOFFSETTO:+0100
TZNAME:CET
DTSTART:20261025T010000
END:STANDARD
BEGIN:DAYLIGHT
TZOFFSETFROM:+0100
TZOFFSETTO:+0200
TZNAME:CEST
DTSTART:20270328T010000
END:DAYLIGHT
BEGIN:STANDARD
TZOFFSETFROM:+0200
TZOFFSETTO:+0100
TZNAME:CET
DTSTART:20271031T010000
END:STANDARD
END:VTIMEZONE
BEGIN:VEVENT
DTSTART;VALUE=DATE:20260426
DTEND;VALUE=DATE:20260428
DTSTAMP:20260425T145353
CREATED:20260316T094207Z
LAST-MODIFIED:20260330T084036Z
UID:3699-1777201200-1777287599@www.golfdelailette.fr
SUMMARY:COUPE DE CLASSEMENT
DESCRIPTION:Stableford individuel \nNombre de participants limité \nDéparts avant 10H30 et après 11h40 \n>>> RENSEIGNEMENTS ET INSCRIPTION : BLUEGREEN.FR/AILETTE <<<
URL:https://www.golfdelailette.fr/competition/coupe-de-classement-4/
CATEGORIES:Compétitions AS
END:VEVENT
BEGIN:VEVENT
DTSTART;VALUE=DATE:20260507
DTEND;VALUE=DATE:20260509
DTSTAMP:20260425T145353
CREATED:20260323T065731Z
LAST-MODIFIED:20260326T125626Z
UID:3772-1778151600-1778237999@www.golfdelailette.fr
SUMMARY:REIMS – AILETTE / ST-QUENTIN
DESCRIPTION:S’inscrire à cette compétition :\n\n\n\n\nREIMS – AILETTE / ST-QUENTIN 0705\n\n\n\n\n\n\n\n\n	Nom et prénom\n		*\n	\n	\n	\n	\n\n\n	Email\n		*\n	\n	\n	\n	\n\n\n	Commentaire\n		\n	\n	\n	\n	\n\n\n	Êtes-vous membre de l'Association Sportive du Golf de l'Ailette ?\n		*\n	\n						\n					 Oui\n					\n					 Non\n\n	\n	\n\n\nVous n'êtes pas membre de l'AS : merci de remplir les champs suivants\n\n\n\n	Numéro de licence\n		*\n	\n	\n	\n	\n\n\n	Index\n		*\n	\n	\n	\n	\n\n\n	Club affilié\n		*\n	\n	\n	\n	\n\n\n	Téléphone\n		*\n	\n	\n	\n	\n\n\n\n	\nEnvoyer\n\n\n\n\n\n	\n			\n			\n				Si vous êtes un humain\, ne remplissez pas ce champ.			\n			\n		\n		\n\n\n\nΔ\n \n\n\nLes inscrits à cette compétition :\nAucune entrée trouvée\n\n_____ \nCOMPÉTITION OUVERTE A TOUS LES SENIORS (+ 50 ans) licenciés à l’Ailette et membre de l’Association Sportive du Golf de l’Ailette. \nStableford individuel : les 8 meilleures cartes en Brut et les 8 meilleures en Net sont retenues pour le résultat de la rencontre. \nTARIF POUR LES RENCONTRES À L’AILETTE\n24€ pour les abonnés Bluegreen et 5€ de droit de jeu \nPOUR LES RENCONTRES À L’EXTÉRIEUR\n48 € (37€ sans repas)
URL:https://www.golfdelailette.fr/competition/reims-ailette-st-quentin/
CATEGORIES:Compétitions Senior
END:VEVENT
BEGIN:VEVENT
DTSTART;VALUE=DATE:20260510
DTEND;VALUE=DATE:20260512
DTSTAMP:20260425T145353
CREATED:20260316T094324Z
LAST-MODIFIED:20260330T084031Z
UID:3701-1778410800-1778497199@www.golfdelailette.fr
SUMMARY:COUPE LE CLOS 47
DESCRIPTION:Scramble à 2 stableford \nRemise des Prix au Clos 47 à Bruyères \n>>> RENSEIGNEMENTS ET INSCRIPTION : BLUEGREEN.FR/AILETTE <<<
URL:https://www.golfdelailette.fr/competition/coupe-le-clos-47-2/
CATEGORIES:Compétitions AS
ATTACH;FMTTYPE=image/jpeg:https://www.golfdelailette.fr/wp-content/uploads/2024/02/clos47-e1707903793223.jpg
END:VEVENT
BEGIN:VEVENT
DTSTART;VALUE=DATE:20260512
DTEND;VALUE=DATE:20260514
DTSTAMP:20260425T145353
CREATED:20260323T073412Z
LAST-MODIFIED:20260326T125752Z
UID:3798-1778583600-1778669999@www.golfdelailette.fr
SUMMARY:AILETTE – MENNEVILLE
DESCRIPTION:S’inscrire à cette compétition :\n\n\n\n\nAILETTE – MENNEVILLE 1205\n\n\n\n\n\n\n\n\n	Nom et prénom\n		*\n	\n	\n	\n	\n\n\n	Email\n		*\n	\n	\n	\n	\n\n\n	Commentaire\n		\n	\n	\n	\n	\n\n\n	Êtes-vous membre de l'Association Sportive du Golf de l'Ailette ?\n		*\n	\n						\n					 Oui\n					\n					 Non\n\n	\n	\n\n\nVous n'êtes pas membre de l'AS : merci de remplir les champs suivants\n\n\n\n	Numéro de licence\n		*\n	\n	\n	\n	\n\n\n	Index\n		*\n	\n	\n	\n	\n\n\n	Club affilié\n		*\n	\n	\n	\n	\n\n\n	Téléphone\n		*\n	\n	\n	\n	\n\n\n\n	\nEnvoyer\n\n\n\n\n\n	\n			\n			\n				Si vous êtes un humain\, ne remplissez pas ce champ.			\n			\n		\n		\n\n\n\nΔ\n \n\n\nLes inscrits à cette compétition :\n\n\n\nNom et prénom\n\n\n\n\nGRUSELLE Eric\n\n\n\n\n_____ \nTRIANGULAIRE ST QUENTIN / MENNEVILLE / AILETTE \nCOMPÉTITION OUVERTE A TOUS LES SENIORS (+ 50 ans) licenciés à l’Ailette et membre de l’Association Sportive du Golf de l’Ailette. \nStableford individuel : les 8 meilleures cartes en Brut et les 8 meilleures en Net sont retenues pour le résultat de la rencontre. \nTARIF POUR LES RENCONTRES À L’AILETTE\n24€ pour les abonnés Bluegreen et 5€ de droit de jeu \nPOUR LES RENCONTRES À L’EXTÉRIEUR\n48 € (37€ sans repas)
URL:https://www.golfdelailette.fr/competition/ailette-menneville/
CATEGORIES:Compétitions Senior
END:VEVENT
BEGIN:VEVENT
DTSTART;VALUE=DATE:20260517
DTEND;VALUE=DATE:20260519
DTSTAMP:20260425T145353
CREATED:20260316T094414Z
LAST-MODIFIED:20260330T084027Z
UID:3703-1779015600-1779101999@www.golfdelailette.fr
SUMMARY:COUPE DU ROTARY CLUB DE SOISSONS
DESCRIPTION:AU PROFIT DES ACTIONS DU ROTARY \nGreensome stableford à 2 \n>>> RENSEIGNEMENTS ET INSCRIPTION : BLUEGREEN.FR/AILETTE <<<
URL:https://www.golfdelailette.fr/competition/coupe-du-rotary-club-de-soissons/
CATEGORIES:Compétitions AS
ATTACH;FMTTYPE=image/jpeg:https://www.golfdelailette.fr/wp-content/uploads/2025/03/images.jpeg
END:VEVENT
BEGIN:VEVENT
DTSTART;VALUE=DATE:20260522
DTEND;VALUE=DATE:20260524
DTSTAMP:20260425T145353
CREATED:20260323T065758Z
LAST-MODIFIED:20260326T125910Z
UID:3774-1779447600-1779533999@www.golfdelailette.fr
SUMMARY:VAL SECRET – AILETTE / ST-QUENTIN
DESCRIPTION:S’inscrire à cette compétition :\n\n\n\n\nVAL SECRET – AILETTE / ST-QUENTIN 2205\n\n\n\n\n\n\n\n\n	Nom et prénom\n		*\n	\n	\n	\n	\n\n\n	Email\n		*\n	\n	\n	\n	\n\n\n	Commentaire\n		\n	\n	\n	\n	\n\n\n	Êtes-vous membre de l'Association Sportive du Golf de l'Ailette ?\n		*\n	\n						\n					 Oui\n					\n					 Non\n\n	\n	\n\n\nVous n'êtes pas membre de l'AS : merci de remplir les champs suivants\n\n\n\n	Numéro de licence\n		*\n	\n	\n	\n	\n\n\n	Index\n		*\n	\n	\n	\n	\n\n\n	Club affilié\n		*\n	\n	\n	\n	\n\n\n	Téléphone\n		*\n	\n	\n	\n	\n\n\n\n	\nEnvoyer\n\n\n\n\n\n	\n			\n			\n				Si vous êtes un humain\, ne remplissez pas ce champ.			\n			\n		\n		\n\n\n\nΔ\n \n\n\nLes inscrits à cette compétition :\nAucune entrée trouvée\n\n_____ \nCOMPÉTITION OUVERTE A TOUS LES SENIORS (+ 50 ans) licenciés à l’Ailette et membre de l’Association Sportive du Golf de l’Ailette. \nStableford individuel : les 8 meilleures cartes en Brut et les 8 meilleures en Net sont retenues pour le résultat de la rencontre. \nTARIF POUR LES RENCONTRES À L’AILETTE\n24€ pour les abonnés Bluegreen et 5€ de droit de jeu \nPOUR LES RENCONTRES À L’EXTÉRIEUR\n48 € (37€ sans repas)
URL:https://www.golfdelailette.fr/competition/val-secret-ailette-st-quentin/
CATEGORIES:Compétitions Senior
END:VEVENT
BEGIN:VEVENT
DTSTART;VALUE=DATE:20260524
DTEND;VALUE=DATE:20260526
DTSTAMP:20260425T145353
CREATED:20260316T094503Z
LAST-MODIFIED:20260330T084022Z
UID:3705-1779620400-1779706799@www.golfdelailette.fr
SUMMARY:40E ANNIVERSAIRE DU GOLF DE L’AILETTE
DESCRIPTION:Stableford individuel \nDotation exceptionnelle pour les 6 séries \n3 tranches horaires par ordre d’index 8h/10h/12h \nCocktail d’Anniversaire et remise des Prix à partir de 18h30 \nDîner au club house sur réservation 45€ \n>>> RENSEIGNEMENTS ET INSCRIPTION : BLUEGREEN.FR/AILETTE <<<
URL:https://www.golfdelailette.fr/competition/40e-anniversaire-du-golf-de-lailette/
CATEGORIES:Compétitions AS
END:VEVENT
BEGIN:VEVENT
DTSTART;VALUE=DATE:20260526
DTEND;VALUE=DATE:20260528
DTSTAMP:20260425T145353
CREATED:20260323T065826Z
LAST-MODIFIED:20260326T130026Z
UID:3776-1779793200-1779879599@www.golfdelailette.fr
SUMMARY:CHAMPAGNE – AILETTE / ST-QUENTIN
DESCRIPTION:S’inscrire à cette compétition :\n\n\n\n\nCHAMPAGNE – AILETTE / ST-QUENTIN 2605\n\n\n\n\n\n\n\n\n	Nom et prénom\n		*\n	\n	\n	\n	\n\n\n	Email\n		*\n	\n	\n	\n	\n\n\n	Commentaire\n		\n	\n	\n	\n	\n\n\n	Êtes-vous membre de l'Association Sportive du Golf de l'Ailette ?\n		*\n	\n						\n					 Oui\n					\n					 Non\n\n	\n	\n\n\nVous n'êtes pas membre de l'AS : merci de remplir les champs suivants\n\n\n\n	Numéro de licence\n		*\n	\n	\n	\n	\n\n\n	Index\n		*\n	\n	\n	\n	\n\n\n	Club affilié\n		*\n	\n	\n	\n	\n\n\n	Téléphone\n		*\n	\n	\n	\n	\n\n\n\n	\nEnvoyer\n\n\n\n\n\n	\n			\n			\n				Si vous êtes un humain\, ne remplissez pas ce champ.			\n			\n		\n		\n\n\n\nΔ\n \n\n\nLes inscrits à cette compétition :\nAucune entrée trouvée\n\n_____ \nCOMPÉTITION OUVERTE A TOUS LES SENIORS (+ 50 ans) licenciés à l’Ailette et membre de l’Association Sportive du Golf de l’Ailette. \nStableford individuel : les 8 meilleures cartes en Brut et les 8 meilleures en Net sont retenues pour le résultat de la rencontre. \nTARIF POUR LES RENCONTRES À L’AILETTE\n24€ pour les abonnés Bluegreen et 5€ de droit de jeu \nPOUR LES RENCONTRES À L’EXTÉRIEUR\n48 € (37€ sans repas)
URL:https://www.golfdelailette.fr/competition/champagne-ailette-st-quentin/
CATEGORIES:Compétitions Senior
END:VEVENT
BEGIN:VEVENT
DTSTART;VALUE=DATE:20260530
DTEND;VALUE=DATE:20260601
DTSTAMP:20260425T145353
CREATED:20260316T094543Z
LAST-MODIFIED:20260330T084011Z
UID:3707-1780138800-1780225199@www.golfdelailette.fr
SUMMARY:TROPHÉE BARBICHETTE COUPE JB
DESCRIPTION:Règlement déterminé par le Sponsor \nNombreux concours et animations \n>>> RENSEIGNEMENTS ET INSCRIPTION : BLUEGREEN.FR/AILETTE <<<
URL:https://www.golfdelailette.fr/competition/trophee-barbichette-coupe-jb/
CATEGORIES:Compétitions AS
END:VEVENT
BEGIN:VEVENT
DTSTART;VALUE=DATE:20260531
DTEND;VALUE=DATE:20260602
DTSTAMP:20260425T145353
CREATED:20260316T094637Z
LAST-MODIFIED:20260330T084006Z
UID:3709-1780225200-1780311599@www.golfdelailette.fr
SUMMARY:COUPE DES ABONNÉS BLUE GREEN
DESCRIPTION:Scramble à 2 stableford \n>>> RENSEIGNEMENTS ET INSCRIPTION : BLUEGREEN.FR/AILETTE <<<
URL:https://www.golfdelailette.fr/competition/coupe-des-abonnes-blue-green/
CATEGORIES:Compétitions BlueGreen
ATTACH;FMTTYPE=image/jpeg:https://www.golfdelailette.fr/wp-content/uploads/2021/07/logo_bluegreen-150.jpg
END:VEVENT
BEGIN:VEVENT
DTSTART;VALUE=DATE:20260602
DTEND;VALUE=DATE:20260604
DTSTAMP:20260425T145353
CREATED:20260323T065848Z
LAST-MODIFIED:20260326T130517Z
UID:3778-1780398000-1780484399@www.golfdelailette.fr
SUMMARY:AILETTE / ST-QUENTIN – CHÂTEAU D’HUMIÈRES
DESCRIPTION:S’inscrire à cette compétition :\n\n\n\n\nAILETTE / ST-QUENTIN – CHÂTEAU D’HUMIÈRES 0206\n\n\n\n\n\n\n\n\n	Nom et prénom\n		*\n	\n	\n	\n	\n\n\n	Email\n		*\n	\n	\n	\n	\n\n\n	Commentaire\n		\n	\n	\n	\n	\n\n\n	Êtes-vous membre de l'Association Sportive du Golf de l'Ailette ?\n		*\n	\n						\n					 Oui\n					\n					 Non\n\n	\n	\n\n\nVous n'êtes pas membre de l'AS : merci de remplir les champs suivants\n\n\n\n	Numéro de licence\n		*\n	\n	\n	\n	\n\n\n	Index\n		*\n	\n	\n	\n	\n\n\n	Club affilié\n		*\n	\n	\n	\n	\n\n\n	Téléphone\n		*\n	\n	\n	\n	\n\n\n\n	\nEnvoyer\n\n\n\n\n\n	\n			\n			\n				Si vous êtes un humain\, ne remplissez pas ce champ.			\n			\n		\n		\n\n\n\nΔ\n \n\n\nLes inscrits à cette compétition :\nAucune entrée trouvée\n\n_____ \nCOMPÉTITION OUVERTE A TOUS LES SENIORS (+ 50 ans) licenciés à l’Ailette et membre de l’Association Sportive du Golf de l’Ailette. \nStableford individuel : les 8 meilleures cartes en Brut et les 8 meilleures en Net sont retenues pour le résultat de la rencontre. \nTARIF POUR LES RENCONTRES À L’AILETTE\n24€ pour les abonnés Bluegreen et 5€ de droit de jeu \nPOUR LES RENCONTRES À L’EXTÉRIEUR\n48 € (37€ sans repas)
URL:https://www.golfdelailette.fr/competition/ailette-st-quentin-chateau-dhumieres/
CATEGORIES:Compétitions Senior
END:VEVENT
BEGIN:VEVENT
DTSTART;VALUE=DATE:20260607
DTEND;VALUE=DATE:20260609
DTSTAMP:20260425T145353
CREATED:20260316T094910Z
LAST-MODIFIED:20260330T084002Z
UID:3711-1780830000-1780916399@www.golfdelailette.fr
SUMMARY:TROPHÉE LINKS AND FRIENDS
DESCRIPTION:Shamble à deux \nNombreuses animations et dégustations \n  \n \n \n>>> RENSEIGNEMENTS ET INSCRIPTION : BLUEGREEN.FR/AILETTE <<<
URL:https://www.golfdelailette.fr/competition/trophee-links-and-friends/
CATEGORIES:Compétitions AS
ATTACH;FMTTYPE=image/png:https://www.golfdelailette.fr/wp-content/uploads/2026/03/Capture-decran-2026-03-16-a-11.16.42.png
END:VEVENT
BEGIN:VEVENT
DTSTART;VALUE=DATE:20260609
DTEND;VALUE=DATE:20260611
DTSTAMP:20260425T145353
CREATED:20260323T065918Z
LAST-MODIFIED:20260326T130747Z
UID:3780-1781002800-1781089199@www.golfdelailette.fr
SUMMARY:AILETTE / ST-QUENTIN – CHAMPAGNE
DESCRIPTION:S’inscrire à cette compétition :\n\n\n\n\nAILETTE / ST-QUENTIN – CHAMPAGNE 0906\n\n\n\n\n\n\n\n\n	Nom et prénom\n		*\n	\n	\n	\n	\n\n\n	Email\n		*\n	\n	\n	\n	\n\n\n	Commentaire\n		\n	\n	\n	\n	\n\n\n	Êtes-vous membre de l'Association Sportive du Golf de l'Ailette ?\n		*\n	\n						\n					 Oui\n					\n					 Non\n\n	\n	\n\n\nVous n'êtes pas membre de l'AS : merci de remplir les champs suivants\n\n\n\n	Numéro de licence\n		*\n	\n	\n	\n	\n\n\n	Index\n		*\n	\n	\n	\n	\n\n\n	Club affilié\n		*\n	\n	\n	\n	\n\n\n	Téléphone\n		*\n	\n	\n	\n	\n\n\n\n	\nEnvoyer\n\n\n\n\n\n	\n			\n			\n				Si vous êtes un humain\, ne remplissez pas ce champ.			\n			\n		\n		\n\n\n\nΔ\n \n\n\nLes inscrits à cette compétition :\nAucune entrée trouvée\n\n_____ \nCOMPÉTITION OUVERTE A TOUS LES SENIORS (+ 50 ans) licenciés à l’Ailette et membre de l’Association Sportive du Golf de l’Ailette. \nStableford individuel : les 8 meilleures cartes en Brut et les 8 meilleures en Net sont retenues pour le résultat de la rencontre. \nTARIF POUR LES RENCONTRES À L’AILETTE\n24€ pour les abonnés Bluegreen et 5€ de droit de jeu \nPOUR LES RENCONTRES À L’EXTÉRIEUR\n48 € (37€ sans repas)
URL:https://www.golfdelailette.fr/competition/ailette-st-quentin-champagne/
CATEGORIES:Compétitions Senior
END:VEVENT
BEGIN:VEVENT
DTSTART;TZID=Europe/Paris:20260614T080000
DTEND;TZID=Europe/Paris:20260614T170000
DTSTAMP:20260425T145353
CREATED:20260316T095000Z
LAST-MODIFIED:20260330T083956Z
UID:3715-1781424000-1781456400@www.golfdelailette.fr
SUMMARY:COUPE DE L’HÔTEL DU GOLF
DESCRIPTION:Départs avant 9h ou après 10H30 \nStableford individuel \nRemise des Prix à l’Hôtel du Golf \n>>> RENSEIGNEMENTS ET INSCRIPTION : BLUEGREEN.FR/AILETTE <<<
URL:https://www.golfdelailette.fr/competition/coupe-de-lhotel-du-golf/
CATEGORIES:Compétitions AS
ATTACH;FMTTYPE=image/png:https://www.golfdelailette.fr/wp-content/uploads/2021/07/hga-150.png
END:VEVENT
BEGIN:VEVENT
DTSTART;VALUE=DATE:20260616
DTEND;VALUE=DATE:20260618
DTSTAMP:20260425T145353
CREATED:20260323T070018Z
LAST-MODIFIED:20260326T130933Z
UID:3782-1781607600-1781693999@www.golfdelailette.fr
SUMMARY:CHÂTEAU D’HUMIÈRES – AILETTE / ST-QUENTIN
DESCRIPTION:S’inscrire à cette compétition :\n\n\n\n\nCHÂTEAU D’HUMIÈRES – AILETTE / ST-QUENTIN 1606\n\n\n\n\n\n\n\n\n	Nom et prénom\n		*\n	\n	\n	\n	\n\n\n	Email\n		*\n	\n	\n	\n	\n\n\n	Commentaire\n		\n	\n	\n	\n	\n\n\n	Êtes-vous membre de l'Association Sportive du Golf de l'Ailette ?\n		*\n	\n						\n					 Oui\n					\n					 Non\n\n	\n	\n\n\nVous n'êtes pas membre de l'AS : merci de remplir les champs suivants\n\n\n\n	Numéro de licence\n		*\n	\n	\n	\n	\n\n\n	Index\n		*\n	\n	\n	\n	\n\n\n	Club affilié\n		*\n	\n	\n	\n	\n\n\n	Téléphone\n		*\n	\n	\n	\n	\n\n\n\n	\nEnvoyer\n\n\n\n\n\n	\n			\n			\n				Si vous êtes un humain\, ne remplissez pas ce champ.			\n			\n		\n		\n\n\n\nΔ\n \n\n\nLes inscrits à cette compétition :\nAucune entrée trouvée\n\n_____ \nCOMPÉTITION OUVERTE A TOUS LES SENIORS (+ 50 ans) licenciés à l’Ailette et membre de l’Association Sportive du Golf de l’Ailette. \nStableford individuel : les 8 meilleures cartes en Brut et les 8 meilleures en Net sont retenues pour le résultat de la rencontre. \nTARIF POUR LES RENCONTRES À L’AILETTE\n24€ pour les abonnés Bluegreen et 5€ de droit de jeu \nPOUR LES RENCONTRES À L’EXTÉRIEUR\n48 € (37€ sans repas)
URL:https://www.golfdelailette.fr/competition/chateau-dhumieres-ailette-st-quentin/
CATEGORIES:Compétitions Senior
END:VEVENT
BEGIN:VEVENT
DTSTART;VALUE=DATE:20260621
DTEND;VALUE=DATE:20260623
DTSTAMP:20260425T145353
CREATED:20260316T095043Z
LAST-MODIFIED:20260330T083952Z
UID:3717-1782039600-1782125999@www.golfdelailette.fr
SUMMARY:COUPE DU XIXE \, LE CLUB HOUSE
DESCRIPTION:Stableford individuel \n>>> RENSEIGNEMENTS ET INSCRIPTION : BLUEGREEN.FR/AILETTE <<<
URL:https://www.golfdelailette.fr/competition/coupe-du-xixe-le-club-house/
CATEGORIES:Compétitions AS
ATTACH;FMTTYPE=image/png:https://www.golfdelailette.fr/wp-content/uploads/2025/03/logo-XIXe.png
END:VEVENT
BEGIN:VEVENT
DTSTART;VALUE=DATE:20260623
DTEND;VALUE=DATE:20260625
DTSTAMP:20260425T145353
CREATED:20260323T070049Z
LAST-MODIFIED:20260326T131107Z
UID:3784-1782212400-1782298799@www.golfdelailette.fr
SUMMARY:AILETTE / ST-QUENTIN – MEAUX
DESCRIPTION:S’inscrire à cette compétition :\n\n\n\n\nAILETTE / ST-QUENTIN – MEAUX 2306\n\n\n\n\n\n\n\n\n	Nom et prénom\n		*\n	\n	\n	\n	\n\n\n	Email\n		*\n	\n	\n	\n	\n\n\n	Commentaire\n		\n	\n	\n	\n	\n\n\n	Êtes-vous membre de l'Association Sportive du Golf de l'Ailette ?\n		*\n	\n						\n					 Oui\n					\n					 Non\n\n	\n	\n\n\nVous n'êtes pas membre de l'AS : merci de remplir les champs suivants\n\n\n\n	Numéro de licence\n		*\n	\n	\n	\n	\n\n\n	Index\n		*\n	\n	\n	\n	\n\n\n	Club affilié\n		*\n	\n	\n	\n	\n\n\n	Téléphone\n		*\n	\n	\n	\n	\n\n\n\n	\nEnvoyer\n\n\n\n\n\n	\n			\n			\n				Si vous êtes un humain\, ne remplissez pas ce champ.			\n			\n		\n		\n\n\n\nΔ\n \n\n\nLes inscrits à cette compétition :\nAucune entrée trouvée\n\n_____ \nCOMPÉTITION OUVERTE A TOUS LES SENIORS (+ 50 ans) licenciés à l’Ailette et membre de l’Association Sportive du Golf de l’Ailette. \nStableford individuel : les 8 meilleures cartes en Brut et les 8 meilleures en Net sont retenues pour le résultat de la rencontre. \nTARIF POUR LES RENCONTRES À L’AILETTE\n24€ pour les abonnés Bluegreen et 5€ de droit de jeu \nPOUR LES RENCONTRES À L’EXTÉRIEUR\n48 € (37€ sans repas)
URL:https://www.golfdelailette.fr/competition/ailette-st-quentin-meaux/
CATEGORIES:Compétitions Senior
END:VEVENT
BEGIN:VEVENT
DTSTART;VALUE=DATE:20260628
DTEND;VALUE=DATE:20260630
DTSTAMP:20260425T145354
CREATED:20260316T095752Z
LAST-MODIFIED:20260330T083948Z
UID:3719-1782644400-1782730799@www.golfdelailette.fr
SUMMARY:COUPE KIA
DESCRIPTION:Sponsorisée par Daniel Urbaniak \nStrokeplay jusqu’à index 18 \nStableford pour les autres \n \n \n>>> RENSEIGNEMENTS ET INSCRIPTION : BLUEGREEN.FR/AILETTE <<<
URL:https://www.golfdelailette.fr/competition/coupe-kia/
CATEGORIES:Compétitions AS
ATTACH;FMTTYPE=image/png:https://www.golfdelailette.fr/wp-content/uploads/2026/03/Capture-decran-2026-03-16-a-11.14.30.png
END:VEVENT
BEGIN:VEVENT
DTSTART;VALUE=DATE:20260630
DTEND;VALUE=DATE:20260703
DTSTAMP:20260425T145354
CREATED:20260316T095843Z
LAST-MODIFIED:20260330T083937Z
UID:3722-1782817200-1782989999@www.golfdelailette.fr
SUMMARY:TROPHÉE SENIOR DE L’AILETTE
DESCRIPTION:Messieurs : séniors 1\, 2 et 3 \nDames : séniors 1 et 2 \nRèglement Fédéral \n>>> RENSEIGNEMENTS ET INSCRIPTION : BLUEGREEN.FR/AILETTE <<<
URL:https://www.golfdelailette.fr/competition/trophee-senior-de-lailette/
CATEGORIES:Compétitions fédérales
END:VEVENT
BEGIN:VEVENT
DTSTART;VALUE=DATE:20260705
DTEND;VALUE=DATE:20260707
DTSTAMP:20260425T145354
CREATED:20260316T095931Z
LAST-MODIFIED:20260330T083931Z
UID:3724-1783249200-1783335599@www.golfdelailette.fr
SUMMARY:XIIIE DIGITAL GOLF TOUR
DESCRIPTION:Stableford individuel \n3 tranches horaires \nDéparts par ordre d’index \nQualificatif pour la finale nationale au Paris \nInternational Golf Club le 25 septembre \n>>> RENSEIGNEMENTS ET INSCRIPTION : BLUEGREEN.FR/AILETTE <<<
URL:https://www.golfdelailette.fr/competition/xiiie-digital-golf-tour/
CATEGORIES:Compétitions AS
ATTACH;FMTTYPE=image/jpeg:https://www.golfdelailette.fr/wp-content/uploads/2025/03/cropped-logo-Groupe-digital-2.jpg
END:VEVENT
BEGIN:VEVENT
DTSTART;VALUE=DATE:20260707
DTEND;VALUE=DATE:20260709
DTSTAMP:20260425T145354
CREATED:20260323T070129Z
LAST-MODIFIED:20260326T131218Z
UID:3786-1783422000-1783508399@www.golfdelailette.fr
SUMMARY:AILETTE / ST-QUENTIN – VAL D’EUROPE
DESCRIPTION:S’inscrire à cette compétition :\n\n\n\n\nAILETTE / ST-QUENTIN – VAL D’EUROPE 0707\n\n\n\n\n\n\n\n\n	Nom et prénom\n		*\n	\n	\n	\n	\n\n\n	Email\n		*\n	\n	\n	\n	\n\n\n	Commentaire\n		\n	\n	\n	\n	\n\n\n	Êtes-vous membre de l'Association Sportive du Golf de l'Ailette ?\n		*\n	\n						\n					 Oui\n					\n					 Non\n\n	\n	\n\n\nVous n'êtes pas membre de l'AS : merci de remplir les champs suivants\n\n\n\n	Numéro de licence\n		*\n	\n	\n	\n	\n\n\n	Index\n		*\n	\n	\n	\n	\n\n\n	Club affilié\n		*\n	\n	\n	\n	\n\n\n	Téléphone\n		*\n	\n	\n	\n	\n\n\n\n	\nEnvoyer\n\n\n\n\n\n	\n			\n			\n				Si vous êtes un humain\, ne remplissez pas ce champ.			\n			\n		\n		\n\n\n\nΔ\n \n\n\nLes inscrits à cette compétition :\nAucune entrée trouvée\n\n_____ \nCOMPÉTITION OUVERTE A TOUS LES SENIORS (+ 50 ans) licenciés à l’Ailette et membre de l’Association Sportive du Golf de l’Ailette. \nStableford individuel : les 8 meilleures cartes en Brut et les 8 meilleures en Net sont retenues pour le résultat de la rencontre. \nTARIF POUR LES RENCONTRES À L’AILETTE\n24€ pour les abonnés Bluegreen et 5€ de droit de jeu \nPOUR LES RENCONTRES À L’EXTÉRIEUR\n48 € (37€ sans repas)
URL:https://www.golfdelailette.fr/competition/ailette-st-quentin-val-deurope/
CATEGORIES:Compétitions Senior
END:VEVENT
BEGIN:VEVENT
DTSTART;VALUE=DATE:20260709
DTEND;VALUE=DATE:20260711
DTSTAMP:20260425T145354
CREATED:20260323T073436Z
LAST-MODIFIED:20260326T131331Z
UID:3800-1783594800-1783681199@www.golfdelailette.fr
SUMMARY:MENNEVILLE – AILETTE
DESCRIPTION:S’inscrire à cette compétition :\n\n\n\n\nMENNEVILLE – AILETTE 0907\n\n\n\n\n\n\n\n\n	Nom et prénom\n		*\n	\n	\n	\n	\n\n\n	Email\n		*\n	\n	\n	\n	\n\n\n	Commentaire\n		\n	\n	\n	\n	\n\n\n	Êtes-vous membre de l'Association Sportive du Golf de l'Ailette ?\n		*\n	\n						\n					 Oui\n					\n					 Non\n\n	\n	\n\n\nVous n'êtes pas membre de l'AS : merci de remplir les champs suivants\n\n\n\n	Numéro de licence\n		*\n	\n	\n	\n	\n\n\n	Index\n		*\n	\n	\n	\n	\n\n\n	Club affilié\n		*\n	\n	\n	\n	\n\n\n	Téléphone\n		*\n	\n	\n	\n	\n\n\n\n	\nEnvoyer\n\n\n\n\n\n	\n			\n			\n				Si vous êtes un humain\, ne remplissez pas ce champ.			\n			\n		\n		\n\n\n\nΔ\n \n\n\nLes inscrits à cette compétition :\nAucune entrée trouvée\n\n_____ \nTRIANGULAIRE ST QUENTIN / MENNEVILLE / AILETTE \nCOMPÉTITION OUVERTE A TOUS LES SENIORS (+ 50 ans) licenciés à l’Ailette et membre de l’Association Sportive du Golf de l’Ailette. \nStableford individuel : les 8 meilleures cartes en Brut et les 8 meilleures en Net sont retenues pour le résultat de la rencontre. \nTARIF POUR LES RENCONTRES À L’AILETTE\n24€ pour les abonnés Bluegreen et 5€ de droit de jeu \nPOUR LES RENCONTRES À L’EXTÉRIEUR\n48 € (37€ sans repas)
URL:https://www.golfdelailette.fr/competition/menneville-ailette/
CATEGORIES:Compétitions Senior
END:VEVENT
BEGIN:VEVENT
DTSTART;VALUE=DATE:20260712
DTEND;VALUE=DATE:20260714
DTSTAMP:20260425T145354
CREATED:20260316T100007Z
LAST-MODIFIED:20260330T083926Z
UID:3726-1783854000-1783940399@www.golfdelailette.fr
SUMMARY:LA BLEU BLANC ROUGE
DESCRIPTION:Organisée par la Commission Sportive \nTexas Scramble à 3 ou 4 joueurs \n>>> RENSEIGNEMENTS ET INSCRIPTION : BLUEGREEN.FR/AILETTE <<<
URL:https://www.golfdelailette.fr/competition/la-bleu-blanc-rouge-2/
CATEGORIES:Compétitions AS
END:VEVENT
BEGIN:VEVENT
DTSTART;VALUE=DATE:20260714
DTEND;VALUE=DATE:20260716
DTSTAMP:20260425T145354
CREATED:20260316T100056Z
LAST-MODIFIED:20260330T083921Z
UID:3728-1784026800-1784113199@www.golfdelailette.fr
SUMMARY:COUPE DE CLASSEMENT
DESCRIPTION:Éclectique d’été par trous sur les 6 épreuves \nStableford individuel \nSponsorisé par Group Digital \n>>> RENSEIGNEMENTS ET INSCRIPTION : BLUEGREEN.FR/AILETTE <<<
URL:https://www.golfdelailette.fr/competition/coupe-de-classement-5/
CATEGORIES:Compétitions AS
ATTACH;FMTTYPE=image/jpeg:https://www.golfdelailette.fr/wp-content/uploads/2025/03/cropped-logo-Groupe-digital-2.jpg
END:VEVENT
BEGIN:VEVENT
DTSTART;VALUE=DATE:20260719
DTEND;VALUE=DATE:20260721
DTSTAMP:20260425T145354
CREATED:20260316T100225Z
LAST-MODIFIED:20260330T083916Z
UID:3730-1784458800-1784545199@www.golfdelailette.fr
SUMMARY:COUPE DE CLASSEMENT
DESCRIPTION:Éclectique d’été par trous sur les 6 épreuves \nStableford individuel \nSponsorisé par Group Digital \n>>> RENSEIGNEMENTS ET INSCRIPTION : BLUEGREEN.FR/AILETTE <<<
URL:https://www.golfdelailette.fr/competition/coupe-de-classement-6/
CATEGORIES:Compétitions AS
ATTACH;FMTTYPE=image/jpeg:https://www.golfdelailette.fr/wp-content/uploads/2025/03/cropped-logo-Groupe-digital-2.jpg
END:VEVENT
BEGIN:VEVENT
DTSTART;VALUE=DATE:20260726
DTEND;VALUE=DATE:20260728
DTSTAMP:20260425T145354
CREATED:20260316T100249Z
LAST-MODIFIED:20260330T083910Z
UID:3732-1785063600-1785149999@www.golfdelailette.fr
SUMMARY:COUPE DE CLASSEMENT
DESCRIPTION:Éclectique d’été par trous sur les 6 épreuves \nStableford individuel \nSponsorisé par Group Digital \n>>> RENSEIGNEMENTS ET INSCRIPTION : BLUEGREEN.FR/AILETTE <<<
URL:https://www.golfdelailette.fr/competition/coupe-de-classement-7/
CATEGORIES:Compétitions AS
ATTACH;FMTTYPE=image/jpeg:https://www.golfdelailette.fr/wp-content/uploads/2025/03/cropped-logo-Groupe-digital-2.jpg
END:VEVENT
BEGIN:VEVENT
DTSTART;VALUE=DATE:20260802
DTEND;VALUE=DATE:20260804
DTSTAMP:20260425T145354
CREATED:20260316T100307Z
LAST-MODIFIED:20260330T083906Z
UID:3734-1785668400-1785754799@www.golfdelailette.fr
SUMMARY:COUPE DE CLASSEMENT
DESCRIPTION:Éclectique d’été par trous sur les 6 épreuves \nStableford individuel \nSponsorisé par Group Digital \n>>> RENSEIGNEMENTS ET INSCRIPTION : BLUEGREEN.FR/AILETTE <<<
URL:https://www.golfdelailette.fr/competition/coupe-de-classement-8/
CATEGORIES:Compétitions AS
ATTACH;FMTTYPE=image/jpeg:https://www.golfdelailette.fr/wp-content/uploads/2025/03/cropped-logo-Groupe-digital-2.jpg
END:VEVENT
BEGIN:VEVENT
DTSTART;VALUE=DATE:20260809
DTEND;VALUE=DATE:20260811
DTSTAMP:20260425T145354
CREATED:20260316T100325Z
LAST-MODIFIED:20260330T083901Z
UID:3736-1786273200-1786359599@www.golfdelailette.fr
SUMMARY:COUPE DE CLASSEMENT
DESCRIPTION:Éclectique d’été par trous sur les 6 épreuves \nStableford individuel \nSponsorisé par Group Digital \n>>> RENSEIGNEMENTS ET INSCRIPTION : BLUEGREEN.FR/AILETTE <<<
URL:https://www.golfdelailette.fr/competition/coupe-de-classement-9/
CATEGORIES:Compétitions AS
ATTACH;FMTTYPE=image/jpeg:https://www.golfdelailette.fr/wp-content/uploads/2025/03/cropped-logo-Groupe-digital-2.jpg
END:VEVENT
BEGIN:VEVENT
DTSTART;VALUE=DATE:20260816
DTEND;VALUE=DATE:20260818
DTSTAMP:20260425T145354
CREATED:20260316T100350Z
LAST-MODIFIED:20260330T083856Z
UID:3738-1786878000-1786964399@www.golfdelailette.fr
SUMMARY:COUPE DE CLASSEMENT
DESCRIPTION:Éclectique d’été par trous sur les 6 épreuves \nStableford individuel \nSponsorisé par Group Digital \n>>> RENSEIGNEMENTS ET INSCRIPTION : BLUEGREEN.FR/AILETTE <<<
URL:https://www.golfdelailette.fr/competition/coupe-de-classement-10/
CATEGORIES:Compétitions AS
ATTACH;FMTTYPE=image/jpeg:https://www.golfdelailette.fr/wp-content/uploads/2025/03/cropped-logo-Groupe-digital-2.jpg
END:VEVENT
BEGIN:VEVENT
DTSTART;VALUE=DATE:20260823
DTEND;VALUE=DATE:20260825
DTSTAMP:20260425T145354
CREATED:20260316T100439Z
LAST-MODIFIED:20260330T083851Z
UID:3740-1787482800-1787569199@www.golfdelailette.fr
SUMMARY:L’ULTIMATE
DESCRIPTION:JOUER LE PARCOURS DE L’AILETTE DANS SA VERSION « CHAMPIONSHIP» \nStrokeplay jusqu’à index 24\, stableford pour les autres \nRemise des Prix de l’Ultimate et de l’Éclectique d’été Group Digital \n>>> RENSEIGNEMENTS ET INSCRIPTION : BLUEGREEN.FR/AILETTE <<<
URL:https://www.golfdelailette.fr/competition/lultimate/
CATEGORIES:Compétitions AS
END:VEVENT
END:VCALENDAR