BEGIN:VCALENDAR
VERSION:2.0
PRODID:-//Association sportive du Golf de l&#039;Ailette - ECPv6.15.20//NONSGML v1.0//EN
CALSCALE:GREGORIAN
METHOD:PUBLISH
X-ORIGINAL-URL:https://www.golfdelailette.fr
X-WR-CALDESC:Évènements pour Association sportive du Golf de l&#039;Ailette
REFRESH-INTERVAL;VALUE=DURATION:PT1H
X-Robots-Tag:noindex
X-PUBLISHED-TTL:PT1H
BEGIN:VTIMEZONE
TZID:Europe/Paris
BEGIN:DAYLIGHT
TZOFFSETFROM:+0100
TZOFFSETTO:+0200
TZNAME:CEST
DTSTART:20250330T010000
END:DAYLIGHT
BEGIN:STANDARD
TZOFFSETFROM:+0200
TZOFFSETTO:+0100
TZNAME:CET
DTSTART:20251026T010000
END:STANDARD
BEGIN:DAYLIGHT
TZOFFSETFROM:+0100
TZOFFSETTO:+0200
TZNAME:CEST
DTSTART:20260329T010000
END:DAYLIGHT
BEGIN:STANDARD
TZOFFSETFROM:+0200
TZOFFSETTO:+0100
TZNAME:CET
DTSTART:20261025T010000
END:STANDARD
BEGIN:DAYLIGHT
TZOFFSETFROM:+0100
TZOFFSETTO:+0200
TZNAME:CEST
DTSTART:20270328T010000
END:DAYLIGHT
BEGIN:STANDARD
TZOFFSETFROM:+0200
TZOFFSETTO:+0100
TZNAME:CET
DTSTART:20271031T010000
END:STANDARD
END:VTIMEZONE
BEGIN:VEVENT
DTSTART;VALUE=DATE:20260424
DTEND;VALUE=DATE:20260426
DTSTAMP:20260425T180742
CREATED:20260320T160702Z
LAST-MODIFIED:20260326T125448Z
UID:3768-1777028400-1777114799@www.golfdelailette.fr
SUMMARY:MEAUX – AILETTE / ST-QUENTIN
DESCRIPTION:S’inscrire à cette compétition :\nLes inscriptions sont closes. \nLes inscrits à cette compétition :\n\n\n\nNom et prénom\n\n\n\n\nGRUSELLE Eric\n\n\n\n\n_____ \nCOMPÉTITION OUVERTE A TOUS LES SENIORS (+ 50 ans) licenciés à l’Ailette et membre de l’Association Sportive du Golf de l’Ailette. \nStableford individuel : les 8 meilleures cartes en Brut et les 8 meilleures en Net sont retenues pour le résultat de la rencontre. \nTARIF POUR LES RENCONTRES À L’AILETTE\n24€ pour les abonnés Bluegreen et 5€ de droit de jeu \nPOUR LES RENCONTRES À L’EXTÉRIEUR\n48 € (37€ sans repas)
URL:https://www.golfdelailette.fr/competition/meaux-ailette-st-quentin/
CATEGORIES:Compétitions Senior
END:VEVENT
BEGIN:VEVENT
DTSTART;VALUE=DATE:20260421
DTEND;VALUE=DATE:20260423
DTSTAMP:20260425T180742
CREATED:20260323T073340Z
LAST-MODIFIED:20260326T125302Z
UID:3796-1776769200-1776855599@www.golfdelailette.fr
SUMMARY:AILETTE – ST-QUENTIN
DESCRIPTION:S’inscrire à cette compétition :\nLes inscriptions sont closes. \nLes inscrits à cette compétition :\n\n\n\nNom et prénom\n\n\n\n\nGRUSELLE Eric\n\n\n\n\n_____ \nTRIANGULAIRE ST QUENTIN / MENNEVILLE / AILETTE \nCOMPÉTITION OUVERTE A TOUS LES SENIORS (+ 50 ans) licenciés à l’Ailette et membre de l’Association Sportive du Golf de l’Ailette. \nStableford individuel : les 8 meilleures cartes en Brut et les 8 meilleures en Net sont retenues pour le résultat de la rencontre. \nTARIF POUR LES RENCONTRES À L’AILETTE\n24€ pour les abonnés Bluegreen et 5€ de droit de jeu \nPOUR LES RENCONTRES À L’EXTÉRIEUR\n48 € (37€ sans repas)
URL:https://www.golfdelailette.fr/competition/ailette-st-quentin/
CATEGORIES:Compétitions Senior
END:VEVENT
BEGIN:VEVENT
DTSTART;VALUE=DATE:20260419
DTEND;VALUE=DATE:20260421
DTSTAMP:20260425T180742
CREATED:20260316T094123Z
LAST-MODIFIED:20260330T084041Z
UID:3697-1776596400-1776682799@www.golfdelailette.fr
SUMMARY:COUPE CENTER PARCS
DESCRIPTION:Scramble à 2 ou à 3 stableford \n>>> RENSEIGNEMENTS ET INSCRIPTION : BLUEGREEN.FR/AILETTE <<<
URL:https://www.golfdelailette.fr/competition/coupe-center-parcs/
CATEGORIES:Compétitions AS
ATTACH;FMTTYPE=image/png:https://www.golfdelailette.fr/wp-content/uploads/2023/03/logo-center-parcs.png
END:VEVENT
BEGIN:VEVENT
DTSTART;VALUE=DATE:20260414
DTEND;VALUE=DATE:20260416
DTSTAMP:20260425T180742
CREATED:20260323T065658Z
LAST-MODIFIED:20260326T124957Z
UID:3770-1776164400-1776250799@www.golfdelailette.fr
SUMMARY:VAL D’EUROPE – AILETTE / ST-QUENTIN
DESCRIPTION:S’inscrire à cette compétition :\nLes inscriptions sont closes. \nLes inscrits à cette compétition :\n\n\n\nNom et prénom\n\n\n\n\nBATTEUX Philippe\n\n\nFiard patrick\n\n\nCanit Ghislaine\n\n\nCanit Yann\n\n\n\n\n_____ \nCOMPÉTITION OUVERTE A TOUS LES SENIORS (+ 50 ans) licenciés à l’Ailette et membre de l’Association Sportive du Golf de l’Ailette. \nStableford individuel : les 8 meilleures cartes en Brut et les 8 meilleures en Net sont retenues pour le résultat de la rencontre. \nTARIF POUR LES RENCONTRES À L’AILETTE\n24€ pour les abonnés Bluegreen et 5€ de droit de jeu \nPOUR LES RENCONTRES À L’EXTÉRIEUR\n48 € (37€ sans repas)
URL:https://www.golfdelailette.fr/competition/val-deurope-ailette-st-quentin/
CATEGORIES:Compétitions Senior
END:VEVENT
BEGIN:VEVENT
DTSTART;VALUE=DATE:20260412
DTEND;VALUE=DATE:20260414
DTSTAMP:20260425T180742
CREATED:20260316T094042Z
LAST-MODIFIED:20260330T084045Z
UID:3695-1775991600-1776077999@www.golfdelailette.fr
SUMMARY:COUPE DE CLASSEMENT
DESCRIPTION:Stableford individuel (inscriptions 5€) \nDéparts à partir de 10H10 \n>>> RENSEIGNEMENTS ET INSCRIPTION : BLUEGREEN.FR/AILETTE <<<
URL:https://www.golfdelailette.fr/competition/coupe-de-classement-3/
CATEGORIES:Compétitions AS
END:VEVENT
BEGIN:VEVENT
DTSTART;VALUE=DATE:20260406
DTEND;VALUE=DATE:20260408
DTSTAMP:20260425T180742
CREATED:20260316T094011Z
LAST-MODIFIED:20260330T084050Z
UID:3693-1775473200-1775559599@www.golfdelailette.fr
SUMMARY:COUPE DE CLASSEMENT
DESCRIPTION:Stableford individuel (inscription 5€) \n>>> RENSEIGNEMENTS ET INSCRIPTION : BLUEGREEN.FR/AILETTE <<<
URL:https://www.golfdelailette.fr/competition/coupe-de-classement-2/
CATEGORIES:Compétitions AS
END:VEVENT
BEGIN:VEVENT
DTSTART;VALUE=DATE:20260405
DTEND;VALUE=DATE:20260407
DTSTAMP:20260425T180742
CREATED:20260316T093931Z
LAST-MODIFIED:20260330T083637Z
UID:3691-1775386800-1775473199@www.golfdelailette.fr
SUMMARY:LA COUPE DE LA DOUBLE CHANCE
DESCRIPTION:COMPÉTITION D’OUVERTURE \nShamble à 2 stableford \nSponsorisée par la Commission sportive \nDéparts avant 10H30 ou après 11H30 \n>>> RENSEIGNEMENTS ET INSCRIPTION : BLUEGREEN.FR/AILETTE <<<
URL:https://www.golfdelailette.fr/competition/la-coupe-de-la-double-chance/
CATEGORIES:Compétitions AS
END:VEVENT
END:VCALENDAR